BEGIN:VCALENDAR
VERSION:2.0
PRODID:https://www.kufer.de/kuferweb / DE
METHOD:PUBLISH
CALSCALE:GREGORIAN
X-WR-TIMEZONE:Europe/Berlin
BEGIN:VTIMEZONE
TZID:Europe/Berlin
X-LIC-LOCATION:Europe/Berlin
BEGIN:DAYLIGHT
TZOFFSETFROM:+0100
TZOFFSETTO:+0200
TZNAME:CEST
DTSTART:19700329T020000
RRULE:FREQ=YEARLY;INTERVAL=1;BYDAY=-1SU;BYMONTH=3
END:DAYLIGHT
BEGIN:STANDARD
TZOFFSETFROM:+0200
TZOFFSETTO:+0100
TZNAME:CET
DTSTART:19701025T030000
RRULE:FREQ=YEARLY;INTERVAL=1;BYDAY=-1SU;BYMONTH=10
END:STANDARD
END:VTIMEZONE
BEGIN:VEVENT
DTSTAMP:20260425T154757
DTSTART;TZID=Europe/Berlin:20260505T100000
DTEND;TZID=Europe/Berlin:20260505T113000
UID:02-02-6003-20260505T100000@VHSDARMSTADT-DIEBURG
SUMMARY:Autobiografisches Schreiben - Fortsetzung (02-02-6003) 
LOCATION:Ober-Ramstadt, Stadthalle, Vereinraum, Entengasse 4, Entengasse 4, 64372 Ober-Ramstadt
END:VEVENT
BEGIN:VEVENT
DTSTAMP:20260425T154757
DTSTART;TZID=Europe/Berlin:20260602T100000
DTEND;TZID=Europe/Berlin:20260602T113000
UID:02-02-6003-20260602T100000@VHSDARMSTADT-DIEBURG
SUMMARY:Autobiografisches Schreiben - Fortsetzung (02-02-6003) 
LOCATION:Ober-Ramstadt, Stadthalle, Vereinraum, Entengasse 4, Entengasse 4, 64372 Ober-Ramstadt
END:VEVENT
BEGIN:VEVENT
DTSTAMP:20260425T154757
DTSTART;TZID=Europe/Berlin:20260623T100000
DTEND;TZID=Europe/Berlin:20260623T113000
UID:02-02-6003-20260623T100000@VHSDARMSTADT-DIEBURG
SUMMARY:Autobiografisches Schreiben - Fortsetzung (02-02-6003) 
LOCATION:Ober-Ramstadt, Stadthalle, Vereinraum, Entengasse 4, Entengasse 4, 64372 Ober-Ramstadt
END:VEVENT
BEGIN:VEVENT
DTSTAMP:20260425T154757
DTSTART;TZID=Europe/Berlin:20260714T100000
DTEND;TZID=Europe/Berlin:20260714T113000
UID:02-02-6003-20260714T100000@VHSDARMSTADT-DIEBURG
SUMMARY:Autobiografisches Schreiben - Fortsetzung (02-02-6003) 
LOCATION:Ober-Ramstadt, Stadthalle, Vereinraum, Entengasse 4, Entengasse 4, 64372 Ober-Ramstadt
END:VEVENT
END:VCALENDAR