BEGIN:VCALENDAR
VERSION:2.0
PRODID:https://www.kufer.de/kuferweb / DE
METHOD:PUBLISH
CALSCALE:GREGORIAN
X-WR-TIMEZONE:Europe/Berlin
BEGIN:VTIMEZONE
TZID:Europe/Berlin
X-LIC-LOCATION:Europe/Berlin
BEGIN:DAYLIGHT
TZOFFSETFROM:+0100
TZOFFSETTO:+0200
TZNAME:CEST
DTSTART:19700329T020000
RRULE:FREQ=YEARLY;INTERVAL=1;BYDAY=-1SU;BYMONTH=3
END:DAYLIGHT
BEGIN:STANDARD
TZOFFSETFROM:+0200
TZOFFSETTO:+0100
TZNAME:CET
DTSTART:19701025T030000
RRULE:FREQ=YEARLY;INTERVAL=1;BYDAY=-1SU;BYMONTH=10
END:STANDARD
END:VTIMEZONE
BEGIN:VEVENT
DTSTAMP:20260425T154309
DTSTART;TZID=Europe/Berlin:20260818T183000
DTEND;TZID=Europe/Berlin:20260818T200000
UID:04-04-6192-20260818T183000@VHSDARMSTADT-DIEBURG
SUMMARY:DTZ- Prüfungsvorbereitung online (04-04-6192) 
LOCATION:vhs-online, Außenstelle vhs Darmstadt-Dieburg
END:VEVENT
BEGIN:VEVENT
DTSTAMP:20260425T154309
DTSTART;TZID=Europe/Berlin:20260825T183000
DTEND;TZID=Europe/Berlin:20260825T200000
UID:04-04-6192-20260825T183000@VHSDARMSTADT-DIEBURG
SUMMARY:DTZ- Prüfungsvorbereitung online (04-04-6192) 
LOCATION:vhs-online, Außenstelle vhs Darmstadt-Dieburg
END:VEVENT
BEGIN:VEVENT
DTSTAMP:20260425T154309
DTSTART;TZID=Europe/Berlin:20260901T183000
DTEND;TZID=Europe/Berlin:20260901T200000
UID:04-04-6192-20260901T183000@VHSDARMSTADT-DIEBURG
SUMMARY:DTZ- Prüfungsvorbereitung online (04-04-6192) 
LOCATION:vhs-online, Außenstelle vhs Darmstadt-Dieburg
END:VEVENT
BEGIN:VEVENT
DTSTAMP:20260425T154309
DTSTART;TZID=Europe/Berlin:20260908T183000
DTEND;TZID=Europe/Berlin:20260908T200000
UID:04-04-6192-20260908T183000@VHSDARMSTADT-DIEBURG
SUMMARY:DTZ- Prüfungsvorbereitung online (04-04-6192) 
LOCATION:vhs-online, Außenstelle vhs Darmstadt-Dieburg
END:VEVENT
BEGIN:VEVENT
DTSTAMP:20260425T154309
DTSTART;TZID=Europe/Berlin:20260915T183000
DTEND;TZID=Europe/Berlin:20260915T200000
UID:04-04-6192-20260915T183000@VHSDARMSTADT-DIEBURG
SUMMARY:DTZ- Prüfungsvorbereitung online (04-04-6192) 
LOCATION:vhs-online, Außenstelle vhs Darmstadt-Dieburg
END:VEVENT
BEGIN:VEVENT
DTSTAMP:20260425T154309
DTSTART;TZID=Europe/Berlin:20260922T183000
DTEND;TZID=Europe/Berlin:20260922T200000
UID:04-04-6192-20260922T183000@VHSDARMSTADT-DIEBURG
SUMMARY:DTZ- Prüfungsvorbereitung online (04-04-6192) 
LOCATION:vhs-online, Außenstelle vhs Darmstadt-Dieburg
END:VEVENT
BEGIN:VEVENT
DTSTAMP:20260425T154309
DTSTART;TZID=Europe/Berlin:20260929T183000
DTEND;TZID=Europe/Berlin:20260929T200000
UID:04-04-6192-20260929T183000@VHSDARMSTADT-DIEBURG
SUMMARY:DTZ- Prüfungsvorbereitung online (04-04-6192) 
LOCATION:vhs-online, Außenstelle vhs Darmstadt-Dieburg
END:VEVENT
BEGIN:VEVENT
DTSTAMP:20260425T154309
DTSTART;TZID=Europe/Berlin:20261020T183000
DTEND;TZID=Europe/Berlin:20261020T200000
UID:04-04-6192-20261020T183000@VHSDARMSTADT-DIEBURG
SUMMARY:DTZ- Prüfungsvorbereitung online (04-04-6192) 
LOCATION:vhs-online, Außenstelle vhs Darmstadt-Dieburg
END:VEVENT
BEGIN:VEVENT
DTSTAMP:20260425T154309
DTSTART;TZID=Europe/Berlin:20261027T183000
DTEND;TZID=Europe/Berlin:20261027T200000
UID:04-04-6192-20261027T183000@VHSDARMSTADT-DIEBURG
SUMMARY:DTZ- Prüfungsvorbereitung online (04-04-6192) 
LOCATION:vhs-online, Außenstelle vhs Darmstadt-Dieburg
END:VEVENT
BEGIN:VEVENT
DTSTAMP:20260425T154309
DTSTART;TZID=Europe/Berlin:20261103T183000
DTEND;TZID=Europe/Berlin:20261103T200000
UID:04-04-6192-20261103T183000@VHSDARMSTADT-DIEBURG
SUMMARY:DTZ- Prüfungsvorbereitung online (04-04-6192) 
LOCATION:vhs-online, Außenstelle vhs Darmstadt-Dieburg
END:VEVENT
END:VCALENDAR