BEGIN:VCALENDAR
VERSION:2.0
PRODID:https://www.kufer.de/kuferweb / DE
METHOD:PUBLISH
CALSCALE:GREGORIAN
X-WR-TIMEZONE:Europe/Berlin
BEGIN:VTIMEZONE
TZID:Europe/Berlin
X-LIC-LOCATION:Europe/Berlin
BEGIN:DAYLIGHT
TZOFFSETFROM:+0100
TZOFFSETTO:+0200
TZNAME:CEST
DTSTART:19700329T020000
RRULE:FREQ=YEARLY;INTERVAL=1;BYDAY=-1SU;BYMONTH=3
END:DAYLIGHT
BEGIN:STANDARD
TZOFFSETFROM:+0200
TZOFFSETTO:+0100
TZNAME:CET
DTSTART:19701025T030000
RRULE:FREQ=YEARLY;INTERVAL=1;BYDAY=-1SU;BYMONTH=10
END:STANDARD
END:VTIMEZONE
BEGIN:VEVENT
DTSTAMP:20260420T150620
DTSTART;TZID=Europe/Berlin:20260513T090000
DTEND;TZID=Europe/Berlin:20260513T103000
UID:04-08-6013-20260513T090000@VHSDARMSTADT-DIEBURG
DESCRIPTION:Verlegung durch Dachsanierung
SUMMARY:Französisch A1 Auffrischung mit Muße am Vormittag - Anschlusskurs (04-08-6013) 
LOCATION:Griesheim, Kochschulhaus, Platz Bar-le-Duc, Platz Bar-le-Duc, 64347 Griesheim
END:VEVENT
BEGIN:VEVENT
DTSTAMP:20260420T150620
DTSTART;TZID=Europe/Berlin:20260520T090000
DTEND;TZID=Europe/Berlin:20260520T103000
UID:04-08-6013-20260520T090000@VHSDARMSTADT-DIEBURG
DESCRIPTION:Verlegung durch Dachsanierung
SUMMARY:Französisch A1 Auffrischung mit Muße am Vormittag - Anschlusskurs (04-08-6013) 
LOCATION:Griesheim, Kochschulhaus, Platz Bar-le-Duc, Platz Bar-le-Duc, 64347 Griesheim
END:VEVENT
BEGIN:VEVENT
DTSTAMP:20260420T150620
DTSTART;TZID=Europe/Berlin:20260527T090000
DTEND;TZID=Europe/Berlin:20260527T103000
UID:04-08-6013-20260527T090000@VHSDARMSTADT-DIEBURG
SUMMARY:Französisch A1 Auffrischung mit Muße am Vormittag - Anschlusskurs (04-08-6013) 
LOCATION:Griesheim, Georg-August-Zinn-Haus, Georg-Schüler-Platz 6, Georg-Schüler-Platz 6, 64347 Griesheim
END:VEVENT
BEGIN:VEVENT
DTSTAMP:20260420T150620
DTSTART;TZID=Europe/Berlin:20260603T090000
DTEND;TZID=Europe/Berlin:20260603T103000
UID:04-08-6013-20260603T090000@VHSDARMSTADT-DIEBURG
SUMMARY:Französisch A1 Auffrischung mit Muße am Vormittag - Anschlusskurs (04-08-6013) 
LOCATION:Griesheim, Georg-August-Zinn-Haus, Georg-Schüler-Platz 6, Georg-Schüler-Platz 6, 64347 Griesheim
END:VEVENT
BEGIN:VEVENT
DTSTAMP:20260420T150620
DTSTART;TZID=Europe/Berlin:20260610T090000
DTEND;TZID=Europe/Berlin:20260610T103000
UID:04-08-6013-20260610T090000@VHSDARMSTADT-DIEBURG
SUMMARY:Französisch A1 Auffrischung mit Muße am Vormittag - Anschlusskurs (04-08-6013) 
LOCATION:Griesheim, Georg-August-Zinn-Haus, Georg-Schüler-Platz 6, Georg-Schüler-Platz 6, 64347 Griesheim
END:VEVENT
END:VCALENDAR